BEGIN:VCALENDAR
VERSION:2.0
PRODID:-//Der Blog rund um die Uhr - ECPv6.15.20//NONSGML v1.0//EN
CALSCALE:GREGORIAN
METHOD:PUBLISH
X-WR-CALNAME:Der Blog rund um die Uhr
X-ORIGINAL-URL:https://uhrenbasel.com
X-WR-CALDESC:Veranstaltungen für Der Blog rund um die Uhr
REFRESH-INTERVAL;VALUE=DURATION:PT1H
X-Robots-Tag:noindex
X-PUBLISHED-TTL:PT1H
BEGIN:VTIMEZONE
TZID:Europe/Paris
BEGIN:DAYLIGHT
TZOFFSETFROM:+0100
TZOFFSETTO:+0200
TZNAME:CEST
DTSTART:20250330T010000
END:DAYLIGHT
BEGIN:STANDARD
TZOFFSETFROM:+0200
TZOFFSETTO:+0100
TZNAME:CET
DTSTART:20251026T010000
END:STANDARD
BEGIN:DAYLIGHT
TZOFFSETFROM:+0100
TZOFFSETTO:+0200
TZNAME:CEST
DTSTART:20260329T010000
END:DAYLIGHT
BEGIN:STANDARD
TZOFFSETFROM:+0200
TZOFFSETTO:+0100
TZNAME:CET
DTSTART:20261025T010000
END:STANDARD
BEGIN:DAYLIGHT
TZOFFSETFROM:+0100
TZOFFSETTO:+0200
TZNAME:CEST
DTSTART:20270328T010000
END:DAYLIGHT
BEGIN:STANDARD
TZOFFSETFROM:+0200
TZOFFSETTO:+0100
TZNAME:CET
DTSTART:20271031T010000
END:STANDARD
END:VTIMEZONE
BEGIN:VEVENT
DTSTART;TZID=Europe/Paris:20261204T100000
DTEND;TZID=Europe/Paris:20261206T180000
DTSTAMP:20260420T111042
CREATED:20230826T123047Z
LAST-MODIFIED:20260402T120424Z
UID:10000120-1796378400-1796580000@uhrenbasel.com
SUMMARY:Schweizer Uhren Festival
DESCRIPTION:Le Festival Suisse de l’Horlogerie.\nIm Herzen der römischen Uhrmacherfurche wird ein lebendiges Schaufenster für drei Tage voller Entdeckungen und Staunen eingerichtet. Eine gesellige und festliche\, aber auch prestigeträchtige Veranstaltung\, die Teil der Welt der Uhrmacherkunst und der mechanischen Kunst ist. \nEine grosse Vielfalt an Uhrenmarken\, Uhrmachern\, Handwerkern\, Marken\, Schulen und anderen Vereinen widmen sich einem unvergesslichen Ereignis. Sie fördern und vermitteln das Know-how von Traditionen\, die auf Innovation ausgerichtet sind. Eine tolle Initiative\, die Ihre Unterstützung braucht.
URL:https://uhrenbasel.com/uhrenkalender-event/le-festival-suisse-de-l-horlogerie/
LOCATION:EXPLORiT\, Y-Parc\, Avenue des Découvertes 1\, Yverdon-les-Bains\, VD\, 1400\, Schweiz
CATEGORIES:Messe
ATTACH;FMTTYPE=image/png:https://uhrenbasel.com/wp-content/uploads/2023/08/Festival-Suisse-de-l-horlogerie.png
GEO:46.765889;6.6430008
X-APPLE-STRUCTURED-LOCATION;VALUE=URI;X-ADDRESS=EXPLORiT Y-Parc Avenue des Découvertes 1 Yverdon-les-Bains VD 1400 Schweiz;X-APPLE-RADIUS=500;X-TITLE=Avenue des Découvertes 1:geo:6.6430008,46.765889
END:VEVENT
END:VCALENDAR